BEGIN:VCALENDAR
VERSION:2.0
PRODID:-// - ECPv6.15.20//NONSGML v1.0//EN
CALSCALE:GREGORIAN
METHOD:PUBLISH
X-ORIGINAL-URL:https://civn.org
X-WR-CALDESC:Events for 
REFRESH-INTERVAL;VALUE=DURATION:PT1H
X-Robots-Tag:noindex
X-PUBLISHED-TTL:PT1H
BEGIN:VTIMEZONE
TZID:UTC
BEGIN:STANDARD
TZOFFSETFROM:+0000
TZOFFSETTO:+0000
TZNAME:UTC
DTSTART:20210101T000000
END:STANDARD
END:VTIMEZONE
BEGIN:VEVENT
DTSTART;VALUE=DATE:20220504
DTEND;VALUE=DATE:20260523
DTSTAMP:20260423T123217
CREATED:20210522T095246Z
LAST-MODIFIED:20221013T211646Z
UID:1224-1651622400-1779494399@civn.org
SUMMARY:Bringing Resources to the Community
DESCRIPTION:
URL:https://civn.org/event/he-does-all-things-well/
LOCATION:Advanced Prep International\, 5787 South Hampton\, Dallas\, TX\, 75232\, United States
CATEGORIES:Holy
ATTACH;FMTTYPE=image/jpeg:https://civn.org/wp-content/uploads/2022/06/04gBhXr6RYhne6W7emww.jpg
ORGANIZER;CN="Marcus Russell":MAILTO:marcusx@cuvn.org
END:VEVENT
BEGIN:VEVENT
DTSTART;TZID=UTC:20220504T080000
DTEND;TZID=UTC:20260618T170000
DTSTAMP:20260423T123217
CREATED:20210704T105924Z
LAST-MODIFIED:20220627T000519Z
UID:1231-1651651200-1781802000@civn.org
SUMMARY:What Your Help Can Do
DESCRIPTION:
URL:https://civn.org/event/what-your-faith-can-do/
LOCATION:Advanced Prep International\, 5787 South Hampton\, Dallas\, TX\, 75232\, United States
CATEGORIES:Holy
ATTACH;FMTTYPE=image/jpeg:https://civn.org/wp-content/uploads/2022/06/20210716_1301141.jpg
ORGANIZER;CN="Marcus Russell":MAILTO:marcusx@cuvn.org
END:VEVENT
END:VCALENDAR